BEGIN:VCALENDAR
VERSION:2.0
PRODID:http://www.kufer.de/kuferweb / DE
METHOD:PUBLISH
CALSCALE:GREGORIAN
X-WR-TIMEZONE:Europe/Berlin
BEGIN:VTIMEZONE
TZID:Europe/Berlin
X-LIC-LOCATION:Europe/Berlin
BEGIN:DAYLIGHT
TZOFFSETFROM:+0100
TZOFFSETTO:+0200
TZNAME:CEST
DTSTART;TZID=Europe/Berlin:19700329T020000
RRULE:FREQ=YEARLY;INTERVAL=1;BYDAY=-1SU;BYMONTH=3
END:DAYLIGHT
BEGIN:STANDARD
TZOFFSETFROM:+0200
TZOFFSETTO:+0100
TZNAME:CET
DTSTART;TZID=Europe/Berlin:19701025T030000
RRULE:FREQ=YEARLY;INTERVAL=1;BYDAY=-1SU;BYMONTH=10
END:STANDARD
END:VTIMEZONE
BEGIN:VEVENT
DTSTAMP:20260423T012124
DTSTART;TZID=Europe/Berlin:20260617T193000
DTEND;TZID=Europe/Berlin:20260617T213000
UID:26F19340-20260617T193000@VHSBUXTEHUDE
SUMMARY:Doppelkopf - Aufbaukurs (26F19340) 
LOCATION:VHS-Haus, Raum 5, Bertha-von-Suttner-Allee 9, 21614 Buxtehude
END:VEVENT
BEGIN:VEVENT
DTSTAMP:20260423T012124
DTSTART;TZID=Europe/Berlin:20260624T193000
DTEND;TZID=Europe/Berlin:20260624T213000
UID:26F19340-20260624T193000@VHSBUXTEHUDE
SUMMARY:Doppelkopf - Aufbaukurs (26F19340) 
LOCATION:VHS-Haus, Raum 5, Bertha-von-Suttner-Allee 9, 21614 Buxtehude
END:VEVENT
BEGIN:VEVENT
DTSTAMP:20260423T012124
DTSTART;TZID=Europe/Berlin:20260701T193000
DTEND;TZID=Europe/Berlin:20260701T213000
UID:26F19340-20260701T193000@VHSBUXTEHUDE
SUMMARY:Doppelkopf - Aufbaukurs (26F19340) 
LOCATION:VHS-Haus, Raum 5, Bertha-von-Suttner-Allee 9, 21614 Buxtehude
END:VEVENT
BEGIN:VEVENT
DTSTAMP:20260423T012124
DTSTART;TZID=Europe/Berlin:20260819T193000
DTEND;TZID=Europe/Berlin:20260819T213000
UID:26F19340-20260819T193000@VHSBUXTEHUDE
SUMMARY:Doppelkopf - Aufbaukurs (26F19340) 
LOCATION:VHS-Haus, Raum 5, Bertha-von-Suttner-Allee 9, 21614 Buxtehude
END:VEVENT
BEGIN:VEVENT
DTSTAMP:20260423T012124
DTSTART;TZID=Europe/Berlin:20260826T193000
DTEND;TZID=Europe/Berlin:20260826T213000
UID:26F19340-20260826T193000@VHSBUXTEHUDE
SUMMARY:Doppelkopf - Aufbaukurs (26F19340) 
LOCATION:VHS-Haus, Raum 5, Bertha-von-Suttner-Allee 9, 21614 Buxtehude
END:VEVENT
BEGIN:VEVENT
DTSTAMP:20260423T012124
DTSTART;TZID=Europe/Berlin:20260902T193000
DTEND;TZID=Europe/Berlin:20260902T213000
UID:26F19340-20260902T193000@VHSBUXTEHUDE
SUMMARY:Doppelkopf - Aufbaukurs (26F19340) 
LOCATION:VHS-Haus, Raum 5, Bertha-von-Suttner-Allee 9, 21614 Buxtehude
END:VEVENT
END:VCALENDAR