BEGIN:VCALENDAR
VERSION:2.0
PRODID:http://www.kufer.de/kuferweb / DE
METHOD:PUBLISH
CALSCALE:GREGORIAN
X-WR-TIMEZONE:Europe/Berlin
BEGIN:VTIMEZONE
TZID:Europe/Berlin
X-LIC-LOCATION:Europe/Berlin
BEGIN:DAYLIGHT
TZOFFSETFROM:+0100
TZOFFSETTO:+0200
TZNAME:CEST
DTSTART;TZID=Europe/Berlin:19700329T020000
RRULE:FREQ=YEARLY;INTERVAL=1;BYDAY=-1SU;BYMONTH=3
END:DAYLIGHT
BEGIN:STANDARD
TZOFFSETFROM:+0200
TZOFFSETTO:+0100
TZNAME:CET
DTSTART;TZID=Europe/Berlin:19701025T030000
RRULE:FREQ=YEARLY;INTERVAL=1;BYDAY=-1SU;BYMONTH=10
END:STANDARD
END:VTIMEZONE
BEGIN:VEVENT
DTSTAMP:20260423T144829
DTSTART;TZID=Europe/Berlin:20260224T090000
DTEND;TZID=Europe/Berlin:20260224T111500
UID:26F82100-20260224T090000@VHSBUXTEHUDE
SUMMARY:Aquarellmalerei (Anfänger*innen und Fortgeschrittene) (26F82100) 
LOCATION:Begegnungsstätte Altkloster, Hauptstr. 30, 21614 Buxtehude
END:VEVENT
BEGIN:VEVENT
DTSTAMP:20260423T144829
DTSTART;TZID=Europe/Berlin:20260303T090000
DTEND;TZID=Europe/Berlin:20260303T111500
UID:26F82100-20260303T090000@VHSBUXTEHUDE
SUMMARY:Aquarellmalerei (Anfänger*innen und Fortgeschrittene) (26F82100) 
LOCATION:Begegnungsstätte Altkloster, Hauptstr. 30, 21614 Buxtehude
END:VEVENT
BEGIN:VEVENT
DTSTAMP:20260423T144829
DTSTART;TZID=Europe/Berlin:20260310T090000
DTEND;TZID=Europe/Berlin:20260310T111500
UID:26F82100-20260310T090000@VHSBUXTEHUDE
SUMMARY:Aquarellmalerei (Anfänger*innen und Fortgeschrittene) (26F82100) 
LOCATION:VHS-Haus, Raum 112, Bertha-von-Suttner-Allee 9, 21614 Buxtehude
END:VEVENT
BEGIN:VEVENT
DTSTAMP:20260423T144829
DTSTART;TZID=Europe/Berlin:20260317T090000
DTEND;TZID=Europe/Berlin:20260317T111500
UID:26F82100-20260317T090000@VHSBUXTEHUDE
SUMMARY:Aquarellmalerei (Anfänger*innen und Fortgeschrittene) (26F82100) 
LOCATION:VHS-Haus, Raum 112, Bertha-von-Suttner-Allee 9, 21614 Buxtehude
END:VEVENT
BEGIN:VEVENT
DTSTAMP:20260423T144829
DTSTART;TZID=Europe/Berlin:20260414T090000
DTEND;TZID=Europe/Berlin:20260414T111500
UID:26F82100-20260414T090000@VHSBUXTEHUDE
SUMMARY:Aquarellmalerei (Anfänger*innen und Fortgeschrittene) (26F82100) 
LOCATION:VHS-Haus, Raum 112, Bertha-von-Suttner-Allee 9, 21614 Buxtehude
END:VEVENT
BEGIN:VEVENT
DTSTAMP:20260423T144829
DTSTART;TZID=Europe/Berlin:20260421T090000
DTEND;TZID=Europe/Berlin:20260421T111500
UID:26F82100-20260421T090000@VHSBUXTEHUDE
SUMMARY:Aquarellmalerei (Anfänger*innen und Fortgeschrittene) (26F82100) 
LOCATION:VHS-Haus, Raum 112, Bertha-von-Suttner-Allee 9, 21614 Buxtehude
END:VEVENT
BEGIN:VEVENT
DTSTAMP:20260423T144829
DTSTART;TZID=Europe/Berlin:20260428T090000
DTEND;TZID=Europe/Berlin:20260428T111500
UID:26F82100-20260428T090000@VHSBUXTEHUDE
SUMMARY:Aquarellmalerei (Anfänger*innen und Fortgeschrittene) (26F82100) 
LOCATION:VHS-Haus, Raum 112, Bertha-von-Suttner-Allee 9, 21614 Buxtehude
END:VEVENT
BEGIN:VEVENT
DTSTAMP:20260423T144829
DTSTART;TZID=Europe/Berlin:20260505T090000
DTEND;TZID=Europe/Berlin:20260505T111500
UID:26F82100-20260505T090000@VHSBUXTEHUDE
SUMMARY:Aquarellmalerei (Anfänger*innen und Fortgeschrittene) (26F82100) 
LOCATION:VHS-Haus, Raum 112, Bertha-von-Suttner-Allee 9, 21614 Buxtehude
END:VEVENT
BEGIN:VEVENT
DTSTAMP:20260423T144829
DTSTART;TZID=Europe/Berlin:20260512T090000
DTEND;TZID=Europe/Berlin:20260512T111500
UID:26F82100-20260512T090000@VHSBUXTEHUDE
SUMMARY:Aquarellmalerei (Anfänger*innen und Fortgeschrittene) (26F82100) 
LOCATION:VHS-Haus, Raum 112, Bertha-von-Suttner-Allee 9, 21614 Buxtehude
END:VEVENT
BEGIN:VEVENT
DTSTAMP:20260423T144829
DTSTART;TZID=Europe/Berlin:20260519T090000
DTEND;TZID=Europe/Berlin:20260519T111500
UID:26F82100-20260519T090000@VHSBUXTEHUDE
SUMMARY:Aquarellmalerei (Anfänger*innen und Fortgeschrittene) (26F82100) 
LOCATION:VHS-Haus, Raum 112, Bertha-von-Suttner-Allee 9, 21614 Buxtehude
END:VEVENT
END:VCALENDAR