BEGIN:VCALENDAR
VERSION:2.0
PRODID:http://www.kufer.de/kuferweb / DE
METHOD:PUBLISH
CALSCALE:GREGORIAN
X-WR-TIMEZONE:Europe/Berlin
BEGIN:VTIMEZONE
TZID:Europe/Berlin
X-LIC-LOCATION:Europe/Berlin
BEGIN:DAYLIGHT
TZOFFSETFROM:+0100
TZOFFSETTO:+0200
TZNAME:CEST
DTSTART;TZID=Europe/Berlin:19700329T020000
RRULE:FREQ=YEARLY;INTERVAL=1;BYDAY=-1SU;BYMONTH=3
END:DAYLIGHT
BEGIN:STANDARD
TZOFFSETFROM:+0200
TZOFFSETTO:+0100
TZNAME:CET
DTSTART;TZID=Europe/Berlin:19701025T030000
RRULE:FREQ=YEARLY;INTERVAL=1;BYDAY=-1SU;BYMONTH=10
END:STANDARD
END:VTIMEZONE
BEGIN:VEVENT
DTSTAMP:20260423T120255
DTSTART;TZID=Europe/Berlin:20260224T183000
DTEND;TZID=Europe/Berlin:20260224T204500
UID:26F82117-20260224T183000@VHSBUXTEHUDE
SUMMARY:Aquarellmalerei (Anfänger*innen und Fortgeschrittene) (26F82117) 
LOCATION:Oberschule Jork, Kunstraum, Schulstr. 5, 21635 Jork
END:VEVENT
BEGIN:VEVENT
DTSTAMP:20260423T120255
DTSTART;TZID=Europe/Berlin:20260303T183000
DTEND;TZID=Europe/Berlin:20260303T204500
UID:26F82117-20260303T183000@VHSBUXTEHUDE
SUMMARY:Aquarellmalerei (Anfänger*innen und Fortgeschrittene) (26F82117) 
LOCATION:Oberschule Jork, Kunstraum, Schulstr. 5, 21635 Jork
END:VEVENT
BEGIN:VEVENT
DTSTAMP:20260423T120255
DTSTART;TZID=Europe/Berlin:20260310T183000
DTEND;TZID=Europe/Berlin:20260310T204500
UID:26F82117-20260310T183000@VHSBUXTEHUDE
SUMMARY:Aquarellmalerei (Anfänger*innen und Fortgeschrittene) (26F82117) 
LOCATION:Oberschule Jork, Kunstraum, Schulstr. 5, 21635 Jork
END:VEVENT
BEGIN:VEVENT
DTSTAMP:20260423T120255
DTSTART;TZID=Europe/Berlin:20260317T183000
DTEND;TZID=Europe/Berlin:20260317T204500
UID:26F82117-20260317T183000@VHSBUXTEHUDE
SUMMARY:Aquarellmalerei (Anfänger*innen und Fortgeschrittene) (26F82117) 
LOCATION:Oberschule Jork, Kunstraum, Schulstr. 5, 21635 Jork
END:VEVENT
BEGIN:VEVENT
DTSTAMP:20260423T120255
DTSTART;TZID=Europe/Berlin:20260414T183000
DTEND;TZID=Europe/Berlin:20260414T204500
UID:26F82117-20260414T183000@VHSBUXTEHUDE
SUMMARY:Aquarellmalerei (Anfänger*innen und Fortgeschrittene) (26F82117) 
LOCATION:Oberschule Jork, Kunstraum, Schulstr. 5, 21635 Jork
END:VEVENT
BEGIN:VEVENT
DTSTAMP:20260423T120255
DTSTART;TZID=Europe/Berlin:20260421T183000
DTEND;TZID=Europe/Berlin:20260421T204500
UID:26F82117-20260421T183000@VHSBUXTEHUDE
SUMMARY:Aquarellmalerei (Anfänger*innen und Fortgeschrittene) (26F82117) 
LOCATION:Oberschule Jork, Kunstraum, Schulstr. 5, 21635 Jork
END:VEVENT
BEGIN:VEVENT
DTSTAMP:20260423T120255
DTSTART;TZID=Europe/Berlin:20260428T183000
DTEND;TZID=Europe/Berlin:20260428T204500
UID:26F82117-20260428T183000@VHSBUXTEHUDE
SUMMARY:Aquarellmalerei (Anfänger*innen und Fortgeschrittene) (26F82117) 
LOCATION:Oberschule Jork, Kunstraum, Schulstr. 5, 21635 Jork
END:VEVENT
BEGIN:VEVENT
DTSTAMP:20260423T120255
DTSTART;TZID=Europe/Berlin:20260505T183000
DTEND;TZID=Europe/Berlin:20260505T204500
UID:26F82117-20260505T183000@VHSBUXTEHUDE
SUMMARY:Aquarellmalerei (Anfänger*innen und Fortgeschrittene) (26F82117) 
LOCATION:Oberschule Jork, Kunstraum, Schulstr. 5, 21635 Jork
END:VEVENT
BEGIN:VEVENT
DTSTAMP:20260423T120255
DTSTART;TZID=Europe/Berlin:20260512T183000
DTEND;TZID=Europe/Berlin:20260512T204500
UID:26F82117-20260512T183000@VHSBUXTEHUDE
SUMMARY:Aquarellmalerei (Anfänger*innen und Fortgeschrittene) (26F82117) 
LOCATION:Oberschule Jork, Kunstraum, Schulstr. 5, 21635 Jork
END:VEVENT
BEGIN:VEVENT
DTSTAMP:20260423T120255
DTSTART;TZID=Europe/Berlin:20260519T183000
DTEND;TZID=Europe/Berlin:20260519T204500
UID:26F82117-20260519T183000@VHSBUXTEHUDE
SUMMARY:Aquarellmalerei (Anfänger*innen und Fortgeschrittene) (26F82117) 
LOCATION:Oberschule Jork, Kunstraum, Schulstr. 5, 21635 Jork
END:VEVENT
END:VCALENDAR