BEGIN:VCALENDAR
VERSION:2.0
PRODID:http://www.kufer.de/kuferweb / DE
METHOD:PUBLISH
CALSCALE:GREGORIAN
X-WR-TIMEZONE:Europe/Berlin
BEGIN:VTIMEZONE
TZID:Europe/Berlin
X-LIC-LOCATION:Europe/Berlin
BEGIN:DAYLIGHT
TZOFFSETFROM:+0100
TZOFFSETTO:+0200
TZNAME:CEST
DTSTART;TZID=Europe/Berlin:19700329T020000
RRULE:FREQ=YEARLY;INTERVAL=1;BYDAY=-1SU;BYMONTH=3
END:DAYLIGHT
BEGIN:STANDARD
TZOFFSETFROM:+0200
TZOFFSETTO:+0100
TZNAME:CET
DTSTART;TZID=Europe/Berlin:19701025T030000
RRULE:FREQ=YEARLY;INTERVAL=1;BYDAY=-1SU;BYMONTH=10
END:STANDARD
END:VTIMEZONE
BEGIN:VEVENT
DTSTAMP:20260423T121123
DTSTART;TZID=Europe/Berlin:20260213T090000
DTEND;TZID=Europe/Berlin:20260213T120000
UID:26F86007-20260213T090000@VHSBUXTEHUDE
SUMMARY:Schneidern am Vormittag (Anfänger*innen und Fortgeschrittene) (26F86007) 
LOCATION:Gemeindehaus Jork, Schützenhofstr. 2, 21635 Jork
END:VEVENT
BEGIN:VEVENT
DTSTAMP:20260423T121123
DTSTART;TZID=Europe/Berlin:20260220T090000
DTEND;TZID=Europe/Berlin:20260220T120000
UID:26F86007-20260220T090000@VHSBUXTEHUDE
SUMMARY:Schneidern am Vormittag (Anfänger*innen und Fortgeschrittene) (26F86007) 
LOCATION:Gemeindehaus Jork, Schützenhofstr. 2, 21635 Jork
END:VEVENT
BEGIN:VEVENT
DTSTAMP:20260423T121123
DTSTART;TZID=Europe/Berlin:20260227T090000
DTEND;TZID=Europe/Berlin:20260227T120000
UID:26F86007-20260227T090000@VHSBUXTEHUDE
SUMMARY:Schneidern am Vormittag (Anfänger*innen und Fortgeschrittene) (26F86007) 
LOCATION:Gemeindehaus Jork, Schützenhofstr. 2, 21635 Jork
END:VEVENT
BEGIN:VEVENT
DTSTAMP:20260423T121123
DTSTART;TZID=Europe/Berlin:20260306T090000
DTEND;TZID=Europe/Berlin:20260306T120000
UID:26F86007-20260306T090000@VHSBUXTEHUDE
SUMMARY:Schneidern am Vormittag (Anfänger*innen und Fortgeschrittene) (26F86007) 
LOCATION:Gemeindehaus Jork, Schützenhofstr. 2, 21635 Jork
END:VEVENT
BEGIN:VEVENT
DTSTAMP:20260423T121123
DTSTART;TZID=Europe/Berlin:20260313T090000
DTEND;TZID=Europe/Berlin:20260313T120000
UID:26F86007-20260313T090000@VHSBUXTEHUDE
SUMMARY:Schneidern am Vormittag (Anfänger*innen und Fortgeschrittene) (26F86007) 
LOCATION:Gemeindehaus Jork, Schützenhofstr. 2, 21635 Jork
END:VEVENT
BEGIN:VEVENT
DTSTAMP:20260423T121123
DTSTART;TZID=Europe/Berlin:20260320T090000
DTEND;TZID=Europe/Berlin:20260320T120000
UID:26F86007-20260320T090000@VHSBUXTEHUDE
SUMMARY:Schneidern am Vormittag (Anfänger*innen und Fortgeschrittene) (26F86007) 
LOCATION:Gemeindehaus Jork, Schützenhofstr. 2, 21635 Jork
END:VEVENT
BEGIN:VEVENT
DTSTAMP:20260423T121123
DTSTART;TZID=Europe/Berlin:20260410T090000
DTEND;TZID=Europe/Berlin:20260410T120000
UID:26F86007-20260410T090000@VHSBUXTEHUDE
SUMMARY:Schneidern am Vormittag (Anfänger*innen und Fortgeschrittene) (26F86007) 
LOCATION:Gemeindehaus Jork, Schützenhofstr. 2, 21635 Jork
END:VEVENT
BEGIN:VEVENT
DTSTAMP:20260423T121123
DTSTART;TZID=Europe/Berlin:20260417T090000
DTEND;TZID=Europe/Berlin:20260417T120000
UID:26F86007-20260417T090000@VHSBUXTEHUDE
SUMMARY:Schneidern am Vormittag (Anfänger*innen und Fortgeschrittene) (26F86007) 
LOCATION:Gemeindehaus Jork, Schützenhofstr. 2, 21635 Jork
END:VEVENT
BEGIN:VEVENT
DTSTAMP:20260423T121123
DTSTART;TZID=Europe/Berlin:20260424T090000
DTEND;TZID=Europe/Berlin:20260424T120000
UID:26F86007-20260424T090000@VHSBUXTEHUDE
SUMMARY:Schneidern am Vormittag (Anfänger*innen und Fortgeschrittene) (26F86007) 
LOCATION:Gemeindehaus Jork, Schützenhofstr. 2, 21635 Jork
END:VEVENT
BEGIN:VEVENT
DTSTAMP:20260423T121123
DTSTART;TZID=Europe/Berlin:20260508T090000
DTEND;TZID=Europe/Berlin:20260508T120000
UID:26F86007-20260508T090000@VHSBUXTEHUDE
SUMMARY:Schneidern am Vormittag (Anfänger*innen und Fortgeschrittene) (26F86007) 
LOCATION:Gemeindehaus Jork, Schützenhofstr. 2, 21635 Jork
END:VEVENT
END:VCALENDAR