BEGIN:VCALENDAR
VERSION:2.0
PRODID:http://www.kufer.de/kuferweb / DE
METHOD:PUBLISH
CALSCALE:GREGORIAN
X-WR-TIMEZONE:Europe/Berlin
BEGIN:VTIMEZONE
TZID:Europe/Berlin
X-LIC-LOCATION:Europe/Berlin
BEGIN:DAYLIGHT
TZOFFSETFROM:+0100
TZOFFSETTO:+0200
TZNAME:CEST
DTSTART;TZID=Europe/Berlin:19700329T020000
RRULE:FREQ=YEARLY;INTERVAL=1;BYDAY=-1SU;BYMONTH=3
END:DAYLIGHT
BEGIN:STANDARD
TZOFFSETFROM:+0200
TZOFFSETTO:+0100
TZNAME:CET
DTSTART;TZID=Europe/Berlin:19701025T030000
RRULE:FREQ=YEARLY;INTERVAL=1;BYDAY=-1SU;BYMONTH=10
END:STANDARD
END:VTIMEZONE
BEGIN:VEVENT
DTSTAMP:20260423T121300
DTSTART;TZID=Europe/Berlin:20260218T180000
DTEND;TZID=Europe/Berlin:20260218T210000
UID:26F86107-20260218T180000@VHSBUXTEHUDE
SUMMARY:Schneidern am Abend (Anfänger*innen und Fortgeschrittene) (26F86107) 
LOCATION:Oberschule Jork, Kunstraum, Schulstr. 5, 21635 Jork
END:VEVENT
BEGIN:VEVENT
DTSTAMP:20260423T121300
DTSTART;TZID=Europe/Berlin:20260225T180000
DTEND;TZID=Europe/Berlin:20260225T210000
UID:26F86107-20260225T180000@VHSBUXTEHUDE
SUMMARY:Schneidern am Abend (Anfänger*innen und Fortgeschrittene) (26F86107) 
LOCATION:Oberschule Jork, Kunstraum, Schulstr. 5, 21635 Jork
END:VEVENT
BEGIN:VEVENT
DTSTAMP:20260423T121300
DTSTART;TZID=Europe/Berlin:20260304T180000
DTEND;TZID=Europe/Berlin:20260304T210000
UID:26F86107-20260304T180000@VHSBUXTEHUDE
SUMMARY:Schneidern am Abend (Anfänger*innen und Fortgeschrittene) (26F86107) 
LOCATION:Oberschule Jork, Kunstraum, Schulstr. 5, 21635 Jork
END:VEVENT
BEGIN:VEVENT
DTSTAMP:20260423T121300
DTSTART;TZID=Europe/Berlin:20260311T180000
DTEND;TZID=Europe/Berlin:20260311T210000
UID:26F86107-20260311T180000@VHSBUXTEHUDE
SUMMARY:Schneidern am Abend (Anfänger*innen und Fortgeschrittene) (26F86107) 
LOCATION:Oberschule Jork, Kunstraum, Schulstr. 5, 21635 Jork
END:VEVENT
BEGIN:VEVENT
DTSTAMP:20260423T121300
DTSTART;TZID=Europe/Berlin:20260318T180000
DTEND;TZID=Europe/Berlin:20260318T210000
UID:26F86107-20260318T180000@VHSBUXTEHUDE
SUMMARY:Schneidern am Abend (Anfänger*innen und Fortgeschrittene) (26F86107) 
LOCATION:Oberschule Jork, Kunstraum, Schulstr. 5, 21635 Jork
END:VEVENT
BEGIN:VEVENT
DTSTAMP:20260423T121300
DTSTART;TZID=Europe/Berlin:20260408T180000
DTEND;TZID=Europe/Berlin:20260408T210000
UID:26F86107-20260408T180000@VHSBUXTEHUDE
SUMMARY:Schneidern am Abend (Anfänger*innen und Fortgeschrittene) (26F86107) 
LOCATION:Oberschule Jork, Kunstraum, Schulstr. 5, 21635 Jork
END:VEVENT
BEGIN:VEVENT
DTSTAMP:20260423T121300
DTSTART;TZID=Europe/Berlin:20260415T180000
DTEND;TZID=Europe/Berlin:20260415T210000
UID:26F86107-20260415T180000@VHSBUXTEHUDE
SUMMARY:Schneidern am Abend (Anfänger*innen und Fortgeschrittene) (26F86107) 
LOCATION:Oberschule Jork, Kunstraum, Schulstr. 5, 21635 Jork
END:VEVENT
BEGIN:VEVENT
DTSTAMP:20260423T121300
DTSTART;TZID=Europe/Berlin:20260422T180000
DTEND;TZID=Europe/Berlin:20260422T210000
UID:26F86107-20260422T180000@VHSBUXTEHUDE
SUMMARY:Schneidern am Abend (Anfänger*innen und Fortgeschrittene) (26F86107) 
LOCATION:Oberschule Jork, Kunstraum, Schulstr. 5, 21635 Jork
END:VEVENT
BEGIN:VEVENT
DTSTAMP:20260423T121300
DTSTART;TZID=Europe/Berlin:20260429T180000
DTEND;TZID=Europe/Berlin:20260429T210000
UID:26F86107-20260429T180000@VHSBUXTEHUDE
SUMMARY:Schneidern am Abend (Anfänger*innen und Fortgeschrittene) (26F86107) 
LOCATION:Oberschule Jork, Kunstraum, Schulstr. 5, 21635 Jork
END:VEVENT
BEGIN:VEVENT
DTSTAMP:20260423T121300
DTSTART;TZID=Europe/Berlin:20260506T180000
DTEND;TZID=Europe/Berlin:20260506T210000
UID:26F86107-20260506T180000@VHSBUXTEHUDE
SUMMARY:Schneidern am Abend (Anfänger*innen und Fortgeschrittene) (26F86107) 
LOCATION:Oberschule Jork, Kunstraum, Schulstr. 5, 21635 Jork
END:VEVENT
END:VCALENDAR