BEGIN:VCALENDAR
VERSION:2.0
PRODID:http://www.kufer.de/kuferweb / DE
METHOD:PUBLISH
CALSCALE:GREGORIAN
X-WR-TIMEZONE:Europe/Berlin
BEGIN:VTIMEZONE
TZID:Europe/Berlin
X-LIC-LOCATION:Europe/Berlin
BEGIN:DAYLIGHT
TZOFFSETFROM:+0100
TZOFFSETTO:+0200
TZNAME:CEST
DTSTART;TZID=Europe/Berlin:19700329T020000
RRULE:FREQ=YEARLY;INTERVAL=1;BYDAY=-1SU;BYMONTH=3
END:DAYLIGHT
BEGIN:STANDARD
TZOFFSETFROM:+0200
TZOFFSETTO:+0100
TZNAME:CET
DTSTART;TZID=Europe/Berlin:19701025T030000
RRULE:FREQ=YEARLY;INTERVAL=1;BYDAY=-1SU;BYMONTH=10
END:STANDARD
END:VTIMEZONE
BEGIN:VEVENT
DTSTAMP:20260423T120315
DTSTART;TZID=Europe/Berlin:20260217T180000
DTEND;TZID=Europe/Berlin:20260217T210000
UID:26F86140-20260217T180000@VHSBUXTEHUDE
SUMMARY:Schneidern am Abend (Anfänger*innen und Fortgeschrittene) (26F86140) 
LOCATION:VHS-Haus, Raum 11, Bertha-von-Suttner-Allee 9, 21614 Buxtehude
END:VEVENT
BEGIN:VEVENT
DTSTAMP:20260423T120315
DTSTART;TZID=Europe/Berlin:20260224T180000
DTEND;TZID=Europe/Berlin:20260224T210000
UID:26F86140-20260224T180000@VHSBUXTEHUDE
SUMMARY:Schneidern am Abend (Anfänger*innen und Fortgeschrittene) (26F86140) 
LOCATION:VHS-Haus, Raum 11, Bertha-von-Suttner-Allee 9, 21614 Buxtehude
END:VEVENT
BEGIN:VEVENT
DTSTAMP:20260423T120315
DTSTART;TZID=Europe/Berlin:20260303T180000
DTEND;TZID=Europe/Berlin:20260303T210000
UID:26F86140-20260303T180000@VHSBUXTEHUDE
SUMMARY:Schneidern am Abend (Anfänger*innen und Fortgeschrittene) (26F86140) 
LOCATION:VHS-Haus, Raum 11, Bertha-von-Suttner-Allee 9, 21614 Buxtehude
END:VEVENT
BEGIN:VEVENT
DTSTAMP:20260423T120315
DTSTART;TZID=Europe/Berlin:20260310T180000
DTEND;TZID=Europe/Berlin:20260310T210000
UID:26F86140-20260310T180000@VHSBUXTEHUDE
SUMMARY:Schneidern am Abend (Anfänger*innen und Fortgeschrittene) (26F86140) 
LOCATION:VHS-Haus, Raum 11, Bertha-von-Suttner-Allee 9, 21614 Buxtehude
END:VEVENT
BEGIN:VEVENT
DTSTAMP:20260423T120315
DTSTART;TZID=Europe/Berlin:20260317T180000
DTEND;TZID=Europe/Berlin:20260317T210000
UID:26F86140-20260317T180000@VHSBUXTEHUDE
SUMMARY:Schneidern am Abend (Anfänger*innen und Fortgeschrittene) (26F86140) 
LOCATION:VHS-Haus, Raum 11, Bertha-von-Suttner-Allee 9, 21614 Buxtehude
END:VEVENT
BEGIN:VEVENT
DTSTAMP:20260423T120315
DTSTART;TZID=Europe/Berlin:20260414T180000
DTEND;TZID=Europe/Berlin:20260414T210000
UID:26F86140-20260414T180000@VHSBUXTEHUDE
SUMMARY:Schneidern am Abend (Anfänger*innen und Fortgeschrittene) (26F86140) 
LOCATION:VHS-Haus, Raum 4, Bertha-von-Suttner-Allee 9, 21614 Buxtehude
END:VEVENT
BEGIN:VEVENT
DTSTAMP:20260423T120315
DTSTART;TZID=Europe/Berlin:20260421T180000
DTEND;TZID=Europe/Berlin:20260421T210000
UID:26F86140-20260421T180000@VHSBUXTEHUDE
SUMMARY:Schneidern am Abend (Anfänger*innen und Fortgeschrittene) (26F86140) 
LOCATION:VHS-Haus, Raum 11, Bertha-von-Suttner-Allee 9, 21614 Buxtehude
END:VEVENT
BEGIN:VEVENT
DTSTAMP:20260423T120315
DTSTART;TZID=Europe/Berlin:20260428T180000
DTEND;TZID=Europe/Berlin:20260428T210000
UID:26F86140-20260428T180000@VHSBUXTEHUDE
SUMMARY:Schneidern am Abend (Anfänger*innen und Fortgeschrittene) (26F86140) 
LOCATION:VHS-Haus, Raum 11, Bertha-von-Suttner-Allee 9, 21614 Buxtehude
END:VEVENT
BEGIN:VEVENT
DTSTAMP:20260423T120315
DTSTART;TZID=Europe/Berlin:20260505T180000
DTEND;TZID=Europe/Berlin:20260505T210000
UID:26F86140-20260505T180000@VHSBUXTEHUDE
SUMMARY:Schneidern am Abend (Anfänger*innen und Fortgeschrittene) (26F86140) 
LOCATION:VHS-Haus, Raum 11, Bertha-von-Suttner-Allee 9, 21614 Buxtehude
END:VEVENT
BEGIN:VEVENT
DTSTAMP:20260423T120315
DTSTART;TZID=Europe/Berlin:20260512T180000
DTEND;TZID=Europe/Berlin:20260512T210000
UID:26F86140-20260512T180000@VHSBUXTEHUDE
DESCRIPTION:Ersatz für Ausfall am 10.02.2026
SUMMARY:Schneidern am Abend (Anfänger*innen und Fortgeschrittene) (26F86140) 
LOCATION:VHS-Haus, Raum 11, Bertha-von-Suttner-Allee 9, 21614 Buxtehude
END:VEVENT
END:VCALENDAR