BEGIN:VCALENDAR
VERSION:2.0
PRODID:http://www.kufer.de/kuferweb / DE
METHOD:PUBLISH
CALSCALE:GREGORIAN
X-WR-TIMEZONE:Europe/Berlin
BEGIN:VTIMEZONE
TZID:Europe/Berlin
X-LIC-LOCATION:Europe/Berlin
BEGIN:DAYLIGHT
TZOFFSETFROM:+0100
TZOFFSETTO:+0200
TZNAME:CEST
DTSTART;TZID=Europe/Berlin:19700329T020000
RRULE:FREQ=YEARLY;INTERVAL=1;BYDAY=-1SU;BYMONTH=3
END:DAYLIGHT
BEGIN:STANDARD
TZOFFSETFROM:+0200
TZOFFSETTO:+0100
TZNAME:CET
DTSTART;TZID=Europe/Berlin:19701025T030000
RRULE:FREQ=YEARLY;INTERVAL=1;BYDAY=-1SU;BYMONTH=10
END:STANDARD
END:VTIMEZONE
BEGIN:VEVENT
DTSTAMP:20260423T121248
DTSTART;TZID=Europe/Berlin:20260306T183000
DTEND;TZID=Europe/Berlin:20260306T204500
UID:26F86190-20260306T183000@VHSBUXTEHUDE
DESCRIPTION:o. H. ab 16.00 Uhr + Hinweis Raum muss zwingend offen bleiben.
SUMMARY:Wochenendkurs Nähen: Schnell, leicht und kreativ! (Anfänger*innen und Fortgeschrittene) (26F86190) 
LOCATION:VHS-Haus, Raum 11, Bertha-von-Suttner-Allee 9, 21614 Buxtehude
END:VEVENT
BEGIN:VEVENT
DTSTAMP:20260423T121248
DTSTART;TZID=Europe/Berlin:20260314T100000
DTEND;TZID=Europe/Berlin:20260314T174500
UID:26F86190-20260314T100000@VHSBUXTEHUDE
SUMMARY:Wochenendkurs Nähen: Schnell, leicht und kreativ! (Anfänger*innen und Fortgeschrittene) (26F86190) 
LOCATION:VHS-Haus, Raum 11, Bertha-von-Suttner-Allee 9, 21614 Buxtehude
END:VEVENT
BEGIN:VEVENT
DTSTAMP:20260423T121248
DTSTART;TZID=Europe/Berlin:20260315T100000
DTEND;TZID=Europe/Berlin:20260315T174500
UID:26F86190-20260315T100000@VHSBUXTEHUDE
SUMMARY:Wochenendkurs Nähen: Schnell, leicht und kreativ! (Anfänger*innen und Fortgeschrittene) (26F86190) 
LOCATION:VHS-Haus, Raum 11, Bertha-von-Suttner-Allee 9, 21614 Buxtehude
END:VEVENT
END:VCALENDAR