BEGIN:VCALENDAR
VERSION:2.0
PRODID:http://www.kufer.de/kuferweb / DE
METHOD:PUBLISH
CALSCALE:GREGORIAN
X-WR-TIMEZONE:Europe/Berlin
BEGIN:VTIMEZONE
TZID:Europe/Berlin
X-LIC-LOCATION:Europe/Berlin
BEGIN:DAYLIGHT
TZOFFSETFROM:+0100
TZOFFSETTO:+0200
TZNAME:CEST
DTSTART;TZID=Europe/Berlin:19700329T020000
RRULE:FREQ=YEARLY;INTERVAL=1;BYDAY=-1SU;BYMONTH=3
END:DAYLIGHT
BEGIN:STANDARD
TZOFFSETFROM:+0200
TZOFFSETTO:+0100
TZNAME:CET
DTSTART;TZID=Europe/Berlin:19701025T030000
RRULE:FREQ=YEARLY;INTERVAL=1;BYDAY=-1SU;BYMONTH=10
END:STANDARD
END:VTIMEZONE
BEGIN:VEVENT
DTSTAMP:20260423T121238
DTSTART;TZID=Europe/Berlin:20260411T100000
DTEND;TZID=Europe/Berlin:20260411T171500
UID:26F86212-20260411T100000@VHSBUXTEHUDE
SUMMARY:Wochenendkurs Schneidern (Anfänger*innen und Fortgeschrittene) (26F86212) 
LOCATION:Oberschule Apensen, Soltacker 5, 21641 Apensen
END:VEVENT
BEGIN:VEVENT
DTSTAMP:20260423T121238
DTSTART;TZID=Europe/Berlin:20260412T100000
DTEND;TZID=Europe/Berlin:20260412T171500
UID:26F86212-20260412T100000@VHSBUXTEHUDE
SUMMARY:Wochenendkurs Schneidern (Anfänger*innen und Fortgeschrittene) (26F86212) 
LOCATION:Oberschule Apensen, Soltacker 5, 21641 Apensen
END:VEVENT
END:VCALENDAR