BEGIN:VCALENDAR
VERSION:2.0
PRODID:http://www.kufer.de/kuferweb / DE
METHOD:PUBLISH
CALSCALE:GREGORIAN
X-WR-TIMEZONE:Europe/Berlin
BEGIN:VTIMEZONE
TZID:Europe/Berlin
X-LIC-LOCATION:Europe/Berlin
BEGIN:DAYLIGHT
TZOFFSETFROM:+0100
TZOFFSETTO:+0200
TZNAME:CEST
DTSTART;TZID=Europe/Berlin:19700329T020000
RRULE:FREQ=YEARLY;INTERVAL=1;BYDAY=-1SU;BYMONTH=3
END:DAYLIGHT
BEGIN:STANDARD
TZOFFSETFROM:+0200
TZOFFSETTO:+0100
TZNAME:CET
DTSTART;TZID=Europe/Berlin:19701025T030000
RRULE:FREQ=YEARLY;INTERVAL=1;BYDAY=-1SU;BYMONTH=10
END:STANDARD
END:VTIMEZONE
BEGIN:VEVENT
DTSTAMP:20260421T192220
DTSTART;TZID=Europe/Berlin:20260204T193000
DTEND;TZID=Europe/Berlin:20260204T210000
UID:26F86332-20260204T193000@VHSBUXTEHUDE
SUMMARY:Häkeln  (Anfänger*innen und Fortgeschrittene) (26F86332) 
LOCATION:Oberschule Apensen, Soltacker 5, 21641 Apensen
END:VEVENT
BEGIN:VEVENT
DTSTAMP:20260421T192220
DTSTART;TZID=Europe/Berlin:20260211T193000
DTEND;TZID=Europe/Berlin:20260211T210000
UID:26F86332-20260211T193000@VHSBUXTEHUDE
SUMMARY:Häkeln  (Anfänger*innen und Fortgeschrittene) (26F86332) 
LOCATION:Oberschule Apensen, Soltacker 5, 21641 Apensen
END:VEVENT
BEGIN:VEVENT
DTSTAMP:20260421T192220
DTSTART;TZID=Europe/Berlin:20260218T193000
DTEND;TZID=Europe/Berlin:20260218T210000
UID:26F86332-20260218T193000@VHSBUXTEHUDE
DESCRIPTION:findet doch statt und wird NICHT nachgeholt am 18.03.2026
SUMMARY:Häkeln  (Anfänger*innen und Fortgeschrittene) (26F86332) 
LOCATION:Oberschule Apensen, Soltacker 5, 21641 Apensen
END:VEVENT
BEGIN:VEVENT
DTSTAMP:20260421T192220
DTSTART;TZID=Europe/Berlin:20260225T193000
DTEND;TZID=Europe/Berlin:20260225T210000
UID:26F86332-20260225T193000@VHSBUXTEHUDE
SUMMARY:Häkeln  (Anfänger*innen und Fortgeschrittene) (26F86332) 
LOCATION:Oberschule Apensen, Soltacker 5, 21641 Apensen
END:VEVENT
BEGIN:VEVENT
DTSTAMP:20260421T192220
DTSTART;TZID=Europe/Berlin:20260304T193000
DTEND;TZID=Europe/Berlin:20260304T210000
UID:26F86332-20260304T193000@VHSBUXTEHUDE
SUMMARY:Häkeln  (Anfänger*innen und Fortgeschrittene) (26F86332) 
LOCATION:Oberschule Apensen, Soltacker 5, 21641 Apensen
END:VEVENT
BEGIN:VEVENT
DTSTAMP:20260421T192220
DTSTART;TZID=Europe/Berlin:20260311T193000
DTEND;TZID=Europe/Berlin:20260311T210000
UID:26F86332-20260311T193000@VHSBUXTEHUDE
SUMMARY:Häkeln  (Anfänger*innen und Fortgeschrittene) (26F86332) 
LOCATION:Oberschule Apensen, Soltacker 5, 21641 Apensen
END:VEVENT
END:VCALENDAR