BEGIN:VCALENDAR
VERSION:2.0
PRODID:http://www.kufer.de/kuferweb / DE
METHOD:PUBLISH
CALSCALE:GREGORIAN
X-WR-TIMEZONE:Europe/Berlin
BEGIN:VTIMEZONE
TZID:Europe/Berlin
X-LIC-LOCATION:Europe/Berlin
BEGIN:DAYLIGHT
TZOFFSETFROM:+0100
TZOFFSETTO:+0200
TZNAME:CEST
DTSTART;TZID=Europe/Berlin:19700329T020000
RRULE:FREQ=YEARLY;INTERVAL=1;BYDAY=-1SU;BYMONTH=3
END:DAYLIGHT
BEGIN:STANDARD
TZOFFSETFROM:+0200
TZOFFSETTO:+0100
TZNAME:CET
DTSTART;TZID=Europe/Berlin:19701025T030000
RRULE:FREQ=YEARLY;INTERVAL=1;BYDAY=-1SU;BYMONTH=10
END:STANDARD
END:VTIMEZONE
BEGIN:VEVENT
DTSTAMP:20260423T120305
DTSTART;TZID=Europe/Berlin:20260206T170000
DTEND;TZID=Europe/Berlin:20260206T180000
UID:26F89800-20260206T170000@VHSBUXTEHUDE
SUMMARY:Klarinette und Saxophon  (Anfänger*innen) (26F89800) 
LOCATION:VHS-Haus, Raum 113, Bertha-von-Suttner-Allee 9, 21614 Buxtehude
END:VEVENT
BEGIN:VEVENT
DTSTAMP:20260423T120305
DTSTART;TZID=Europe/Berlin:20260213T170000
DTEND;TZID=Europe/Berlin:20260213T180000
UID:26F89800-20260213T170000@VHSBUXTEHUDE
SUMMARY:Klarinette und Saxophon  (Anfänger*innen) (26F89800) 
LOCATION:VHS-Haus, Raum 113, Bertha-von-Suttner-Allee 9, 21614 Buxtehude
END:VEVENT
BEGIN:VEVENT
DTSTAMP:20260423T120305
DTSTART;TZID=Europe/Berlin:20260220T170000
DTEND;TZID=Europe/Berlin:20260220T180000
UID:26F89800-20260220T170000@VHSBUXTEHUDE
SUMMARY:Klarinette und Saxophon  (Anfänger*innen) (26F89800) 
LOCATION:VHS-Haus, Raum 113, Bertha-von-Suttner-Allee 9, 21614 Buxtehude
END:VEVENT
BEGIN:VEVENT
DTSTAMP:20260423T120305
DTSTART;TZID=Europe/Berlin:20260227T170000
DTEND;TZID=Europe/Berlin:20260227T180000
UID:26F89800-20260227T170000@VHSBUXTEHUDE
SUMMARY:Klarinette und Saxophon  (Anfänger*innen) (26F89800) 
LOCATION:VHS-Haus, Raum 113, Bertha-von-Suttner-Allee 9, 21614 Buxtehude
END:VEVENT
BEGIN:VEVENT
DTSTAMP:20260423T120305
DTSTART;TZID=Europe/Berlin:20260306T170000
DTEND;TZID=Europe/Berlin:20260306T180000
UID:26F89800-20260306T170000@VHSBUXTEHUDE
DESCRIPTION:o. H. ab 16.00 Uhr
SUMMARY:Klarinette und Saxophon  (Anfänger*innen) (26F89800) 
LOCATION:VHS-Haus, Raum 113, Bertha-von-Suttner-Allee 9, 21614 Buxtehude
END:VEVENT
BEGIN:VEVENT
DTSTAMP:20260423T120305
DTSTART;TZID=Europe/Berlin:20260313T170000
DTEND;TZID=Europe/Berlin:20260313T180000
UID:26F89800-20260313T170000@VHSBUXTEHUDE
SUMMARY:Klarinette und Saxophon  (Anfänger*innen) (26F89800) 
LOCATION:VHS-Haus, Raum 113, Bertha-von-Suttner-Allee 9, 21614 Buxtehude
END:VEVENT
BEGIN:VEVENT
DTSTAMP:20260423T120305
DTSTART;TZID=Europe/Berlin:20260320T170000
DTEND;TZID=Europe/Berlin:20260320T180000
UID:26F89800-20260320T170000@VHSBUXTEHUDE
SUMMARY:Klarinette und Saxophon  (Anfänger*innen) (26F89800) 
LOCATION:VHS-Haus, Raum 113, Bertha-von-Suttner-Allee 9, 21614 Buxtehude
END:VEVENT
BEGIN:VEVENT
DTSTAMP:20260423T120305
DTSTART;TZID=Europe/Berlin:20260410T170000
DTEND;TZID=Europe/Berlin:20260410T180000
UID:26F89800-20260410T170000@VHSBUXTEHUDE
SUMMARY:Klarinette und Saxophon  (Anfänger*innen) (26F89800) 
LOCATION:VHS-Haus, Raum 113, Bertha-von-Suttner-Allee 9, 21614 Buxtehude
END:VEVENT
BEGIN:VEVENT
DTSTAMP:20260423T120305
DTSTART;TZID=Europe/Berlin:20260417T170000
DTEND;TZID=Europe/Berlin:20260417T180000
UID:26F89800-20260417T170000@VHSBUXTEHUDE
SUMMARY:Klarinette und Saxophon  (Anfänger*innen) (26F89800) 
LOCATION:VHS-Haus, Raum 113, Bertha-von-Suttner-Allee 9, 21614 Buxtehude
END:VEVENT
BEGIN:VEVENT
DTSTAMP:20260423T120305
DTSTART;TZID=Europe/Berlin:20260424T170000
DTEND;TZID=Europe/Berlin:20260424T180000
UID:26F89800-20260424T170000@VHSBUXTEHUDE
SUMMARY:Klarinette und Saxophon  (Anfänger*innen) (26F89800) 
LOCATION:VHS-Haus, Raum 113, Bertha-von-Suttner-Allee 9, 21614 Buxtehude
END:VEVENT
BEGIN:VEVENT
DTSTAMP:20260423T120305
DTSTART;TZID=Europe/Berlin:20260508T170000
DTEND;TZID=Europe/Berlin:20260508T180000
UID:26F89800-20260508T170000@VHSBUXTEHUDE
SUMMARY:Klarinette und Saxophon  (Anfänger*innen) (26F89800) 
LOCATION:VHS-Haus, Raum 113, Bertha-von-Suttner-Allee 9, 21614 Buxtehude
END:VEVENT
BEGIN:VEVENT
DTSTAMP:20260423T120305
DTSTART;TZID=Europe/Berlin:20260522T170000
DTEND;TZID=Europe/Berlin:20260522T180000
UID:26F89800-20260522T170000@VHSBUXTEHUDE
SUMMARY:Klarinette und Saxophon  (Anfänger*innen) (26F89800) 
LOCATION:VHS-Haus, Raum 113, Bertha-von-Suttner-Allee 9, 21614 Buxtehude
END:VEVENT
BEGIN:VEVENT
DTSTAMP:20260423T120305
DTSTART;TZID=Europe/Berlin:20260529T170000
DTEND;TZID=Europe/Berlin:20260529T180000
UID:26F89800-20260529T170000@VHSBUXTEHUDE
SUMMARY:Klarinette und Saxophon  (Anfänger*innen) (26F89800) 
LOCATION:VHS-Haus, Raum 113, Bertha-von-Suttner-Allee 9, 21614 Buxtehude
END:VEVENT
BEGIN:VEVENT
DTSTAMP:20260423T120305
DTSTART;TZID=Europe/Berlin:20260605T170000
DTEND;TZID=Europe/Berlin:20260605T180000
UID:26F89800-20260605T170000@VHSBUXTEHUDE
SUMMARY:Klarinette und Saxophon  (Anfänger*innen) (26F89800) 
LOCATION:VHS-Haus, Raum 113, Bertha-von-Suttner-Allee 9, 21614 Buxtehude
END:VEVENT
BEGIN:VEVENT
DTSTAMP:20260423T120305
DTSTART;TZID=Europe/Berlin:20260612T170000
DTEND;TZID=Europe/Berlin:20260612T180000
UID:26F89800-20260612T170000@VHSBUXTEHUDE
SUMMARY:Klarinette und Saxophon  (Anfänger*innen) (26F89800) 
LOCATION:VHS-Haus, Raum 113, Bertha-von-Suttner-Allee 9, 21614 Buxtehude
END:VEVENT
BEGIN:VEVENT
DTSTAMP:20260423T120305
DTSTART;TZID=Europe/Berlin:20260619T170000
DTEND;TZID=Europe/Berlin:20260619T180000
UID:26F89800-20260619T170000@VHSBUXTEHUDE
SUMMARY:Klarinette und Saxophon  (Anfänger*innen) (26F89800) 
LOCATION:VHS-Haus, Raum 113, Bertha-von-Suttner-Allee 9, 21614 Buxtehude
END:VEVENT
END:VCALENDAR