BEGIN:VCALENDAR
VERSION:2.0
PRODID:http://www.kufer.de/kuferweb / DE
METHOD:PUBLISH
CALSCALE:GREGORIAN
X-WR-TIMEZONE:Europe/Berlin
BEGIN:VTIMEZONE
TZID:Europe/Berlin
X-LIC-LOCATION:Europe/Berlin
BEGIN:DAYLIGHT
TZOFFSETFROM:+0100
TZOFFSETTO:+0200
TZNAME:CEST
DTSTART;TZID=Europe/Berlin:19700329T020000
RRULE:FREQ=YEARLY;INTERVAL=1;BYDAY=-1SU;BYMONTH=3
END:DAYLIGHT
BEGIN:STANDARD
TZOFFSETFROM:+0200
TZOFFSETTO:+0100
TZNAME:CET
DTSTART;TZID=Europe/Berlin:19701025T030000
RRULE:FREQ=YEARLY;INTERVAL=1;BYDAY=-1SU;BYMONTH=10
END:STANDARD
END:VTIMEZONE
BEGIN:VEVENT
DTSTAMP:20260423T120300
DTSTART;TZID=Europe/Berlin:20260206T190000
DTEND;TZID=Europe/Berlin:20260206T200000
UID:26F89820-20260206T190000@VHSBUXTEHUDE
SUMMARY:Klarinette und Saxophon  (Anfänger*innen) (26F89820) 
LOCATION:VHS-Haus, Raum 113, Bertha-von-Suttner-Allee 9, 21614 Buxtehude
END:VEVENT
BEGIN:VEVENT
DTSTAMP:20260423T120300
DTSTART;TZID=Europe/Berlin:20260213T190000
DTEND;TZID=Europe/Berlin:20260213T200000
UID:26F89820-20260213T190000@VHSBUXTEHUDE
SUMMARY:Klarinette und Saxophon  (Anfänger*innen) (26F89820) 
LOCATION:VHS-Haus, Raum 113, Bertha-von-Suttner-Allee 9, 21614 Buxtehude
END:VEVENT
BEGIN:VEVENT
DTSTAMP:20260423T120300
DTSTART;TZID=Europe/Berlin:20260220T190000
DTEND;TZID=Europe/Berlin:20260220T200000
UID:26F89820-20260220T190000@VHSBUXTEHUDE
SUMMARY:Klarinette und Saxophon  (Anfänger*innen) (26F89820) 
LOCATION:VHS-Haus, Raum 113, Bertha-von-Suttner-Allee 9, 21614 Buxtehude
END:VEVENT
BEGIN:VEVENT
DTSTAMP:20260423T120300
DTSTART;TZID=Europe/Berlin:20260227T190000
DTEND;TZID=Europe/Berlin:20260227T200000
UID:26F89820-20260227T190000@VHSBUXTEHUDE
SUMMARY:Klarinette und Saxophon  (Anfänger*innen) (26F89820) 
LOCATION:VHS-Haus, Raum 113, Bertha-von-Suttner-Allee 9, 21614 Buxtehude
END:VEVENT
BEGIN:VEVENT
DTSTAMP:20260423T120300
DTSTART;TZID=Europe/Berlin:20260306T190000
DTEND;TZID=Europe/Berlin:20260306T200000
UID:26F89820-20260306T190000@VHSBUXTEHUDE
DESCRIPTION:o. H. ab 16.00 uhr
SUMMARY:Klarinette und Saxophon  (Anfänger*innen) (26F89820) 
LOCATION:VHS-Haus, Raum 113, Bertha-von-Suttner-Allee 9, 21614 Buxtehude
END:VEVENT
BEGIN:VEVENT
DTSTAMP:20260423T120300
DTSTART;TZID=Europe/Berlin:20260313T190000
DTEND;TZID=Europe/Berlin:20260313T200000
UID:26F89820-20260313T190000@VHSBUXTEHUDE
SUMMARY:Klarinette und Saxophon  (Anfänger*innen) (26F89820) 
LOCATION:VHS-Haus, Raum 113, Bertha-von-Suttner-Allee 9, 21614 Buxtehude
END:VEVENT
BEGIN:VEVENT
DTSTAMP:20260423T120300
DTSTART;TZID=Europe/Berlin:20260320T190000
DTEND;TZID=Europe/Berlin:20260320T200000
UID:26F89820-20260320T190000@VHSBUXTEHUDE
SUMMARY:Klarinette und Saxophon  (Anfänger*innen) (26F89820) 
LOCATION:VHS-Haus, Raum 113, Bertha-von-Suttner-Allee 9, 21614 Buxtehude
END:VEVENT
BEGIN:VEVENT
DTSTAMP:20260423T120300
DTSTART;TZID=Europe/Berlin:20260410T190000
DTEND;TZID=Europe/Berlin:20260410T200000
UID:26F89820-20260410T190000@VHSBUXTEHUDE
SUMMARY:Klarinette und Saxophon  (Anfänger*innen) (26F89820) 
LOCATION:VHS-Haus, Raum 113, Bertha-von-Suttner-Allee 9, 21614 Buxtehude
END:VEVENT
BEGIN:VEVENT
DTSTAMP:20260423T120300
DTSTART;TZID=Europe/Berlin:20260417T190000
DTEND;TZID=Europe/Berlin:20260417T200000
UID:26F89820-20260417T190000@VHSBUXTEHUDE
SUMMARY:Klarinette und Saxophon  (Anfänger*innen) (26F89820) 
LOCATION:VHS-Haus, Raum 113, Bertha-von-Suttner-Allee 9, 21614 Buxtehude
END:VEVENT
BEGIN:VEVENT
DTSTAMP:20260423T120300
DTSTART;TZID=Europe/Berlin:20260424T190000
DTEND;TZID=Europe/Berlin:20260424T200000
UID:26F89820-20260424T190000@VHSBUXTEHUDE
SUMMARY:Klarinette und Saxophon  (Anfänger*innen) (26F89820) 
LOCATION:VHS-Haus, Raum 113, Bertha-von-Suttner-Allee 9, 21614 Buxtehude
END:VEVENT
BEGIN:VEVENT
DTSTAMP:20260423T120300
DTSTART;TZID=Europe/Berlin:20260508T190000
DTEND;TZID=Europe/Berlin:20260508T200000
UID:26F89820-20260508T190000@VHSBUXTEHUDE
SUMMARY:Klarinette und Saxophon  (Anfänger*innen) (26F89820) 
LOCATION:VHS-Haus, Raum 113, Bertha-von-Suttner-Allee 9, 21614 Buxtehude
END:VEVENT
BEGIN:VEVENT
DTSTAMP:20260423T120300
DTSTART;TZID=Europe/Berlin:20260522T190000
DTEND;TZID=Europe/Berlin:20260522T200000
UID:26F89820-20260522T190000@VHSBUXTEHUDE
SUMMARY:Klarinette und Saxophon  (Anfänger*innen) (26F89820) 
LOCATION:VHS-Haus, Raum 113, Bertha-von-Suttner-Allee 9, 21614 Buxtehude
END:VEVENT
BEGIN:VEVENT
DTSTAMP:20260423T120300
DTSTART;TZID=Europe/Berlin:20260529T190000
DTEND;TZID=Europe/Berlin:20260529T200000
UID:26F89820-20260529T190000@VHSBUXTEHUDE
SUMMARY:Klarinette und Saxophon  (Anfänger*innen) (26F89820) 
LOCATION:VHS-Haus, Raum 113, Bertha-von-Suttner-Allee 9, 21614 Buxtehude
END:VEVENT
BEGIN:VEVENT
DTSTAMP:20260423T120300
DTSTART;TZID=Europe/Berlin:20260605T190000
DTEND;TZID=Europe/Berlin:20260605T200000
UID:26F89820-20260605T190000@VHSBUXTEHUDE
SUMMARY:Klarinette und Saxophon  (Anfänger*innen) (26F89820) 
LOCATION:VHS-Haus, Raum 113, Bertha-von-Suttner-Allee 9, 21614 Buxtehude
END:VEVENT
BEGIN:VEVENT
DTSTAMP:20260423T120300
DTSTART;TZID=Europe/Berlin:20260612T190000
DTEND;TZID=Europe/Berlin:20260612T200000
UID:26F89820-20260612T190000@VHSBUXTEHUDE
SUMMARY:Klarinette und Saxophon  (Anfänger*innen) (26F89820) 
LOCATION:VHS-Haus, Raum 113, Bertha-von-Suttner-Allee 9, 21614 Buxtehude
END:VEVENT
BEGIN:VEVENT
DTSTAMP:20260423T120300
DTSTART;TZID=Europe/Berlin:20260619T190000
DTEND;TZID=Europe/Berlin:20260619T200000
UID:26F89820-20260619T190000@VHSBUXTEHUDE
SUMMARY:Klarinette und Saxophon  (Anfänger*innen) (26F89820) 
LOCATION:VHS-Haus, Raum 113, Bertha-von-Suttner-Allee 9, 21614 Buxtehude
END:VEVENT
END:VCALENDAR