BEGIN:VCALENDAR
VERSION:2.0
PRODID:http://www.kufer.de/kuferweb / DE
METHOD:PUBLISH
CALSCALE:GREGORIAN
X-WR-TIMEZONE:Europe/Berlin
BEGIN:VTIMEZONE
TZID:Europe/Berlin
X-LIC-LOCATION:Europe/Berlin
BEGIN:DAYLIGHT
TZOFFSETFROM:+0100
TZOFFSETTO:+0200
TZNAME:CEST
DTSTART;TZID=Europe/Berlin:19700329T020000
RRULE:FREQ=YEARLY;INTERVAL=1;BYDAY=-1SU;BYMONTH=3
END:DAYLIGHT
BEGIN:STANDARD
TZOFFSETFROM:+0200
TZOFFSETTO:+0100
TZNAME:CET
DTSTART;TZID=Europe/Berlin:19701025T030000
RRULE:FREQ=YEARLY;INTERVAL=1;BYDAY=-1SU;BYMONTH=10
END:STANDARD
END:VTIMEZONE
BEGIN:VEVENT
DTSTAMP:20260422T024442
DTSTART;TZID=Europe/Berlin:20260512T090000
DTEND;TZID=Europe/Berlin:20260512T100000
UID:26F94050-20260512T090000@VHSBUXTEHUDE
SUMMARY:Hatha-Yoga für Frühstarter  (Anfänger*innen) (26F94050) 
LOCATION:VHS-Haus, Raum 203, Bertha-von-Suttner-Allee 9, 21614 Buxtehude
END:VEVENT
BEGIN:VEVENT
DTSTAMP:20260422T024442
DTSTART;TZID=Europe/Berlin:20260519T090000
DTEND;TZID=Europe/Berlin:20260519T100000
UID:26F94050-20260519T090000@VHSBUXTEHUDE
SUMMARY:Hatha-Yoga für Frühstarter  (Anfänger*innen) (26F94050) 
LOCATION:VHS-Haus, Raum 203, Bertha-von-Suttner-Allee 9, 21614 Buxtehude
END:VEVENT
BEGIN:VEVENT
DTSTAMP:20260422T024442
DTSTART;TZID=Europe/Berlin:20260602T090000
DTEND;TZID=Europe/Berlin:20260602T100000
UID:26F94050-20260602T090000@VHSBUXTEHUDE
SUMMARY:Hatha-Yoga für Frühstarter  (Anfänger*innen) (26F94050) 
LOCATION:VHS-Haus, Raum 203, Bertha-von-Suttner-Allee 9, 21614 Buxtehude
END:VEVENT
BEGIN:VEVENT
DTSTAMP:20260422T024442
DTSTART;TZID=Europe/Berlin:20260609T090000
DTEND;TZID=Europe/Berlin:20260609T100000
UID:26F94050-20260609T090000@VHSBUXTEHUDE
SUMMARY:Hatha-Yoga für Frühstarter  (Anfänger*innen) (26F94050) 
LOCATION:VHS-Haus, Raum 203, Bertha-von-Suttner-Allee 9, 21614 Buxtehude
END:VEVENT
BEGIN:VEVENT
DTSTAMP:20260422T024442
DTSTART;TZID=Europe/Berlin:20260616T090000
DTEND;TZID=Europe/Berlin:20260616T100000
UID:26F94050-20260616T090000@VHSBUXTEHUDE
SUMMARY:Hatha-Yoga für Frühstarter  (Anfänger*innen) (26F94050) 
LOCATION:VHS-Haus, Raum 203, Bertha-von-Suttner-Allee 9, 21614 Buxtehude
END:VEVENT
BEGIN:VEVENT
DTSTAMP:20260422T024442
DTSTART;TZID=Europe/Berlin:20260623T090000
DTEND;TZID=Europe/Berlin:20260623T100000
UID:26F94050-20260623T090000@VHSBUXTEHUDE
SUMMARY:Hatha-Yoga für Frühstarter  (Anfänger*innen) (26F94050) 
LOCATION:VHS-Haus, Raum 203, Bertha-von-Suttner-Allee 9, 21614 Buxtehude
END:VEVENT
END:VCALENDAR