BEGIN:VCALENDAR
VERSION:2.0
PRODID:http://www.kufer.de/kuferweb / DE
METHOD:PUBLISH
CALSCALE:GREGORIAN
X-WR-TIMEZONE:Europe/Berlin
BEGIN:VTIMEZONE
TZID:Europe/Berlin
X-LIC-LOCATION:Europe/Berlin
BEGIN:DAYLIGHT
TZOFFSETFROM:+0100
TZOFFSETTO:+0200
TZNAME:CEST
DTSTART;TZID=Europe/Berlin:19700329T020000
RRULE:FREQ=YEARLY;INTERVAL=1;BYDAY=-1SU;BYMONTH=3
END:DAYLIGHT
BEGIN:STANDARD
TZOFFSETFROM:+0200
TZOFFSETTO:+0100
TZNAME:CET
DTSTART;TZID=Europe/Berlin:19701025T030000
RRULE:FREQ=YEARLY;INTERVAL=1;BYDAY=-1SU;BYMONTH=10
END:STANDARD
END:VTIMEZONE
BEGIN:VEVENT
DTSTAMP:20260424T162622
DTSTART;TZID=Europe/Berlin:20260519T180000
DTEND;TZID=Europe/Berlin:20260519T191500
UID:26F94320-20260519T180000@VHSBUXTEHUDE
SUMMARY:Hatha-Yoga für Rücken und Gelenke (26F94320) 
LOCATION:VHS-Haus, Raum 201, Bertha-von-Suttner-Allee 9, 21614 Buxtehude
END:VEVENT
BEGIN:VEVENT
DTSTAMP:20260424T162622
DTSTART;TZID=Europe/Berlin:20260602T180000
DTEND;TZID=Europe/Berlin:20260602T191500
UID:26F94320-20260602T180000@VHSBUXTEHUDE
SUMMARY:Hatha-Yoga für Rücken und Gelenke (26F94320) 
LOCATION:VHS-Haus, Raum 201, Bertha-von-Suttner-Allee 9, 21614 Buxtehude
END:VEVENT
BEGIN:VEVENT
DTSTAMP:20260424T162622
DTSTART;TZID=Europe/Berlin:20260609T180000
DTEND;TZID=Europe/Berlin:20260609T191500
UID:26F94320-20260609T180000@VHSBUXTEHUDE
SUMMARY:Hatha-Yoga für Rücken und Gelenke (26F94320) 
LOCATION:VHS-Haus, Raum 201, Bertha-von-Suttner-Allee 9, 21614 Buxtehude
END:VEVENT
BEGIN:VEVENT
DTSTAMP:20260424T162622
DTSTART;TZID=Europe/Berlin:20260616T180000
DTEND;TZID=Europe/Berlin:20260616T191500
UID:26F94320-20260616T180000@VHSBUXTEHUDE
SUMMARY:Hatha-Yoga für Rücken und Gelenke (26F94320) 
LOCATION:VHS-Haus, Raum 201, Bertha-von-Suttner-Allee 9, 21614 Buxtehude
END:VEVENT
BEGIN:VEVENT
DTSTAMP:20260424T162622
DTSTART;TZID=Europe/Berlin:20260623T180000
DTEND;TZID=Europe/Berlin:20260623T191500
UID:26F94320-20260623T180000@VHSBUXTEHUDE
SUMMARY:Hatha-Yoga für Rücken und Gelenke (26F94320) 
LOCATION:VHS-Haus, Raum 201, Bertha-von-Suttner-Allee 9, 21614 Buxtehude
END:VEVENT
BEGIN:VEVENT
DTSTAMP:20260424T162622
DTSTART;TZID=Europe/Berlin:20260626T180000
DTEND;TZID=Europe/Berlin:20260626T191500
UID:26F94320-20260626T180000@VHSBUXTEHUDE
SUMMARY:Hatha-Yoga für Rücken und Gelenke (26F94320) 
LOCATION:VHS-Haus, Raum 201, Bertha-von-Suttner-Allee 9, 21614 Buxtehude
END:VEVENT
END:VCALENDAR