BEGIN:VCALENDAR
VERSION:2.0
PRODID:http://www.kufer.de/kuferweb / DE
METHOD:PUBLISH
CALSCALE:GREGORIAN
X-WR-TIMEZONE:Europe/Berlin
BEGIN:VTIMEZONE
TZID:Europe/Berlin
X-LIC-LOCATION:Europe/Berlin
BEGIN:DAYLIGHT
TZOFFSETFROM:+0100
TZOFFSETTO:+0200
TZNAME:CEST
DTSTART;TZID=Europe/Berlin:19700329T020000
RRULE:FREQ=YEARLY;INTERVAL=1;BYDAY=-1SU;BYMONTH=3
END:DAYLIGHT
BEGIN:STANDARD
TZOFFSETFROM:+0200
TZOFFSETTO:+0100
TZNAME:CET
DTSTART;TZID=Europe/Berlin:19701025T030000
RRULE:FREQ=YEARLY;INTERVAL=1;BYDAY=-1SU;BYMONTH=10
END:STANDARD
END:VTIMEZONE
BEGIN:VEVENT
DTSTAMP:20260422T043329
DTSTART;TZID=Europe/Berlin:20260219T101000
DTEND;TZID=Europe/Berlin:20260219T111000
UID:26F96360-20260219T101000@VHSBUXTEHUDE
SUMMARY:Älter werden, jung bleiben durch Bewegung (26F96360) 
LOCATION:VHS-Haus, Raum 10, Bertha-von-Suttner-Allee 9, 21614 Buxtehude
END:VEVENT
BEGIN:VEVENT
DTSTAMP:20260422T043329
DTSTART;TZID=Europe/Berlin:20260226T101000
DTEND;TZID=Europe/Berlin:20260226T111000
UID:26F96360-20260226T101000@VHSBUXTEHUDE
SUMMARY:Älter werden, jung bleiben durch Bewegung (26F96360) 
LOCATION:VHS-Haus, Raum 10, Bertha-von-Suttner-Allee 9, 21614 Buxtehude
END:VEVENT
BEGIN:VEVENT
DTSTAMP:20260422T043329
DTSTART;TZID=Europe/Berlin:20260305T101000
DTEND;TZID=Europe/Berlin:20260305T111000
UID:26F96360-20260305T101000@VHSBUXTEHUDE
SUMMARY:Älter werden, jung bleiben durch Bewegung (26F96360) 
LOCATION:VHS-Haus, Raum 10, Bertha-von-Suttner-Allee 9, 21614 Buxtehude
END:VEVENT
BEGIN:VEVENT
DTSTAMP:20260422T043329
DTSTART;TZID=Europe/Berlin:20260312T101000
DTEND;TZID=Europe/Berlin:20260312T111000
UID:26F96360-20260312T101000@VHSBUXTEHUDE
SUMMARY:Älter werden, jung bleiben durch Bewegung (26F96360) 
LOCATION:VHS-Haus, Raum 10, Bertha-von-Suttner-Allee 9, 21614 Buxtehude
END:VEVENT
BEGIN:VEVENT
DTSTAMP:20260422T043329
DTSTART;TZID=Europe/Berlin:20260319T101000
DTEND;TZID=Europe/Berlin:20260319T111000
UID:26F96360-20260319T101000@VHSBUXTEHUDE
SUMMARY:Älter werden, jung bleiben durch Bewegung (26F96360) 
LOCATION:VHS-Haus, Raum 10, Bertha-von-Suttner-Allee 9, 21614 Buxtehude
END:VEVENT
BEGIN:VEVENT
DTSTAMP:20260422T043329
DTSTART;TZID=Europe/Berlin:20260326T101000
DTEND;TZID=Europe/Berlin:20260326T111000
UID:26F96360-20260326T101000@VHSBUXTEHUDE
SUMMARY:Älter werden, jung bleiben durch Bewegung (26F96360) 
LOCATION:VHS-Haus, Raum 10, Bertha-von-Suttner-Allee 9, 21614 Buxtehude
END:VEVENT
BEGIN:VEVENT
DTSTAMP:20260422T043329
DTSTART;TZID=Europe/Berlin:20260402T101000
DTEND;TZID=Europe/Berlin:20260402T111000
UID:26F96360-20260402T101000@VHSBUXTEHUDE
SUMMARY:Älter werden, jung bleiben durch Bewegung (26F96360) 
LOCATION:VHS-Haus, Raum 10, Bertha-von-Suttner-Allee 9, 21614 Buxtehude
END:VEVENT
BEGIN:VEVENT
DTSTAMP:20260422T043329
DTSTART;TZID=Europe/Berlin:20260409T101000
DTEND;TZID=Europe/Berlin:20260409T111000
UID:26F96360-20260409T101000@VHSBUXTEHUDE
SUMMARY:Älter werden, jung bleiben durch Bewegung (26F96360) 
LOCATION:VHS-Haus, Raum 10, Bertha-von-Suttner-Allee 9, 21614 Buxtehude
END:VEVENT
BEGIN:VEVENT
DTSTAMP:20260422T043329
DTSTART;TZID=Europe/Berlin:20260423T101000
DTEND;TZID=Europe/Berlin:20260423T111000
UID:26F96360-20260423T101000@VHSBUXTEHUDE
DESCRIPTION:Ersatz für Ausfall am 16.04.2026
SUMMARY:Älter werden, jung bleiben durch Bewegung (26F96360) 
LOCATION:VHS-Haus, Raum 10, Bertha-von-Suttner-Allee 9, 21614 Buxtehude
END:VEVENT
END:VCALENDAR