BEGIN:VCALENDAR
VERSION:2.0
PRODID:http://www.kufer.de/kuferweb / DE
METHOD:PUBLISH
CALSCALE:GREGORIAN
X-WR-TIMEZONE:Europe/Berlin
BEGIN:VTIMEZONE
TZID:Europe/Berlin
X-LIC-LOCATION:Europe/Berlin
BEGIN:DAYLIGHT
TZOFFSETFROM:+0100
TZOFFSETTO:+0200
TZNAME:CEST
DTSTART;TZID=Europe/Berlin:19700329T020000
RRULE:FREQ=YEARLY;INTERVAL=1;BYDAY=-1SU;BYMONTH=3
END:DAYLIGHT
BEGIN:STANDARD
TZOFFSETFROM:+0200
TZOFFSETTO:+0100
TZNAME:CET
DTSTART;TZID=Europe/Berlin:19701025T030000
RRULE:FREQ=YEARLY;INTERVAL=1;BYDAY=-1SU;BYMONTH=10
END:STANDARD
END:VTIMEZONE
BEGIN:VEVENT
DTSTAMP:20260421T162935
DTSTART;TZID=Europe/Berlin:20260430T101000
DTEND;TZID=Europe/Berlin:20260430T111000
UID:26F96370-20260430T101000@VHSBUXTEHUDE
SUMMARY:Älter werden, jung bleiben durch Bewegung (26F96370) 
LOCATION:VHS-Haus, Raum 10, Bertha-von-Suttner-Allee 9, 21614 Buxtehude
END:VEVENT
BEGIN:VEVENT
DTSTAMP:20260421T162935
DTSTART;TZID=Europe/Berlin:20260507T101000
DTEND;TZID=Europe/Berlin:20260507T111000
UID:26F96370-20260507T101000@VHSBUXTEHUDE
SUMMARY:Älter werden, jung bleiben durch Bewegung (26F96370) 
LOCATION:VHS-Haus, Raum 10, Bertha-von-Suttner-Allee 9, 21614 Buxtehude
END:VEVENT
BEGIN:VEVENT
DTSTAMP:20260421T162935
DTSTART;TZID=Europe/Berlin:20260521T101000
DTEND;TZID=Europe/Berlin:20260521T111000
UID:26F96370-20260521T101000@VHSBUXTEHUDE
SUMMARY:Älter werden, jung bleiben durch Bewegung (26F96370) 
LOCATION:VHS-Haus, Raum 10, Bertha-von-Suttner-Allee 9, 21614 Buxtehude
END:VEVENT
BEGIN:VEVENT
DTSTAMP:20260421T162935
DTSTART;TZID=Europe/Berlin:20260528T101000
DTEND;TZID=Europe/Berlin:20260528T111000
UID:26F96370-20260528T101000@VHSBUXTEHUDE
SUMMARY:Älter werden, jung bleiben durch Bewegung (26F96370) 
LOCATION:VHS-Haus, Raum 10, Bertha-von-Suttner-Allee 9, 21614 Buxtehude
END:VEVENT
BEGIN:VEVENT
DTSTAMP:20260421T162935
DTSTART;TZID=Europe/Berlin:20260604T101000
DTEND;TZID=Europe/Berlin:20260604T111000
UID:26F96370-20260604T101000@VHSBUXTEHUDE
SUMMARY:Älter werden, jung bleiben durch Bewegung (26F96370) 
LOCATION:VHS-Haus, Raum 10, Bertha-von-Suttner-Allee 9, 21614 Buxtehude
END:VEVENT
BEGIN:VEVENT
DTSTAMP:20260421T162935
DTSTART;TZID=Europe/Berlin:20260611T101000
DTEND;TZID=Europe/Berlin:20260611T111000
UID:26F96370-20260611T101000@VHSBUXTEHUDE
SUMMARY:Älter werden, jung bleiben durch Bewegung (26F96370) 
LOCATION:VHS-Haus, Raum 10, Bertha-von-Suttner-Allee 9, 21614 Buxtehude
END:VEVENT
BEGIN:VEVENT
DTSTAMP:20260421T162935
DTSTART;TZID=Europe/Berlin:20260618T101000
DTEND;TZID=Europe/Berlin:20260618T111000
UID:26F96370-20260618T101000@VHSBUXTEHUDE
SUMMARY:Älter werden, jung bleiben durch Bewegung (26F96370) 
LOCATION:VHS-Haus, Raum 10, Bertha-von-Suttner-Allee 9, 21614 Buxtehude
END:VEVENT
BEGIN:VEVENT
DTSTAMP:20260421T162935
DTSTART;TZID=Europe/Berlin:20260625T101000
DTEND;TZID=Europe/Berlin:20260625T111000
UID:26F96370-20260625T101000@VHSBUXTEHUDE
SUMMARY:Älter werden, jung bleiben durch Bewegung (26F96370) 
LOCATION:VHS-Haus, Raum 10, Bertha-von-Suttner-Allee 9, 21614 Buxtehude
END:VEVENT
BEGIN:VEVENT
DTSTAMP:20260421T162935
DTSTART;TZID=Europe/Berlin:20260702T101000
DTEND;TZID=Europe/Berlin:20260702T111000
UID:26F96370-20260702T101000@VHSBUXTEHUDE
SUMMARY:Älter werden, jung bleiben durch Bewegung (26F96370) 
LOCATION:VHS-Haus, Raum 10, Bertha-von-Suttner-Allee 9, 21614 Buxtehude
END:VEVENT
END:VCALENDAR