BEGIN:VCALENDAR
VERSION:2.0
PRODID:http://www.kufer.de/kuferweb / DE
METHOD:PUBLISH
CALSCALE:GREGORIAN
X-WR-TIMEZONE:Europe/Berlin
BEGIN:VTIMEZONE
TZID:Europe/Berlin
X-LIC-LOCATION:Europe/Berlin
BEGIN:DAYLIGHT
TZOFFSETFROM:+0100
TZOFFSETTO:+0200
TZNAME:CEST
DTSTART;TZID=Europe/Berlin:19700329T020000
RRULE:FREQ=YEARLY;INTERVAL=1;BYDAY=-1SU;BYMONTH=3
END:DAYLIGHT
BEGIN:STANDARD
TZOFFSETFROM:+0200
TZOFFSETTO:+0100
TZNAME:CET
DTSTART;TZID=Europe/Berlin:19701025T030000
RRULE:FREQ=YEARLY;INTERVAL=1;BYDAY=-1SU;BYMONTH=10
END:STANDARD
END:VTIMEZONE
BEGIN:VEVENT
DTSTAMP:20260423T103451
DTSTART;TZID=Europe/Berlin:20260927T093000
DTEND;TZID=Europe/Berlin:20260927T140000
UID:26H66450-20260927T093000@VHSBUXTEHUDE
SUMMARY:"Richtig" streiten (für päd. Fachkräfte und Eltern und alle, die eigentlich nie mehr streiten wollen) (26H66450) 
LOCATION:VHS-Haus, Bertha-von-Suttner-Allee 9, 21614 Buxtehude
END:VEVENT
END:VCALENDAR