BEGIN:VCALENDAR
VERSION:2.0
PRODID:http://www.kufer.de/kuferweb / DE
METHOD:PUBLISH
CALSCALE:GREGORIAN
X-WR-TIMEZONE:Europe/Berlin
BEGIN:VTIMEZONE
TZID:Europe/Berlin
X-LIC-LOCATION:Europe/Berlin
BEGIN:DAYLIGHT
TZOFFSETFROM:+0100
TZOFFSETTO:+0200
TZNAME:CEST
DTSTART;TZID=Europe/Berlin:19700329T020000
RRULE:FREQ=YEARLY;INTERVAL=1;BYDAY=-1SU;BYMONTH=3
END:DAYLIGHT
BEGIN:STANDARD
TZOFFSETFROM:+0200
TZOFFSETTO:+0100
TZNAME:CET
DTSTART;TZID=Europe/Berlin:19701025T030000
RRULE:FREQ=YEARLY;INTERVAL=1;BYDAY=-1SU;BYMONTH=10
END:STANDARD
END:VTIMEZONE
BEGIN:VEVENT
DTSTAMP:20260423T122957
DTSTART;TZID=Europe/Berlin:20260813T170000
DTEND;TZID=Europe/Berlin:20260813T180000
UID:26H96220-20260813T170000@VHSBUXTEHUDE
SUMMARY:BodyBalancePilates - systemisches Ganzkörpertraining  (Schnupperkurs) (26H96220) 
LOCATION:VHS-Haus, Raum 203, Bertha-von-Suttner-Allee 9, 21614 Buxtehude
END:VEVENT
BEGIN:VEVENT
DTSTAMP:20260423T122957
DTSTART;TZID=Europe/Berlin:20260820T170000
DTEND;TZID=Europe/Berlin:20260820T180000
UID:26H96220-20260820T170000@VHSBUXTEHUDE
SUMMARY:BodyBalancePilates - systemisches Ganzkörpertraining  (Schnupperkurs) (26H96220) 
LOCATION:VHS-Haus, Raum 203, Bertha-von-Suttner-Allee 9, 21614 Buxtehude
END:VEVENT
BEGIN:VEVENT
DTSTAMP:20260423T122957
DTSTART;TZID=Europe/Berlin:20260827T170000
DTEND;TZID=Europe/Berlin:20260827T180000
UID:26H96220-20260827T170000@VHSBUXTEHUDE
SUMMARY:BodyBalancePilates - systemisches Ganzkörpertraining  (Schnupperkurs) (26H96220) 
LOCATION:VHS-Haus, Raum 203, Bertha-von-Suttner-Allee 9, 21614 Buxtehude
END:VEVENT
BEGIN:VEVENT
DTSTAMP:20260423T122957
DTSTART;TZID=Europe/Berlin:20260903T170000
DTEND;TZID=Europe/Berlin:20260903T180000
UID:26H96220-20260903T170000@VHSBUXTEHUDE
SUMMARY:BodyBalancePilates - systemisches Ganzkörpertraining  (Schnupperkurs) (26H96220) 
LOCATION:VHS-Haus, Raum 203, Bertha-von-Suttner-Allee 9, 21614 Buxtehude
END:VEVENT
END:VCALENDAR