BEGIN:VCALENDAR
VERSION:2.0
PRODID:http://www.kufer.de/kuferweb / DE
METHOD:PUBLISH
CALSCALE:GREGORIAN
X-WR-TIMEZONE:Europe/Berlin
BEGIN:VTIMEZONE
TZID:Europe/Berlin
X-LIC-LOCATION:Europe/Berlin
BEGIN:DAYLIGHT
TZOFFSETFROM:+0100
TZOFFSETTO:+0200
TZNAME:CEST
DTSTART;TZID=Europe/Berlin:19700329T020000
RRULE:FREQ=YEARLY;INTERVAL=1;BYDAY=-1SU;BYMONTH=3
END:DAYLIGHT
BEGIN:STANDARD
TZOFFSETFROM:+0200
TZOFFSETTO:+0100
TZNAME:CET
DTSTART;TZID=Europe/Berlin:19701025T030000
RRULE:FREQ=YEARLY;INTERVAL=1;BYDAY=-1SU;BYMONTH=10
END:STANDARD
END:VTIMEZONE
BEGIN:VEVENT
DTSTAMP:20260424T130326
DTSTART;TZID=Europe/Berlin:20260819T090000
DTEND;TZID=Europe/Berlin:20260819T100000
UID:26H96280-20260819T090000@VHSBUXTEHUDE
SUMMARY:Spaß und Freude an Bewegung ab 70 (26H96280) 
LOCATION:VHS-Haus, Raum 10, Bertha-von-Suttner-Allee 9, 21614 Buxtehude
END:VEVENT
BEGIN:VEVENT
DTSTAMP:20260424T130326
DTSTART;TZID=Europe/Berlin:20260826T090000
DTEND;TZID=Europe/Berlin:20260826T100000
UID:26H96280-20260826T090000@VHSBUXTEHUDE
SUMMARY:Spaß und Freude an Bewegung ab 70 (26H96280) 
LOCATION:VHS-Haus, Raum 10, Bertha-von-Suttner-Allee 9, 21614 Buxtehude
END:VEVENT
BEGIN:VEVENT
DTSTAMP:20260424T130326
DTSTART;TZID=Europe/Berlin:20260902T090000
DTEND;TZID=Europe/Berlin:20260902T100000
UID:26H96280-20260902T090000@VHSBUXTEHUDE
SUMMARY:Spaß und Freude an Bewegung ab 70 (26H96280) 
LOCATION:VHS-Haus, Raum 10, Bertha-von-Suttner-Allee 9, 21614 Buxtehude
END:VEVENT
BEGIN:VEVENT
DTSTAMP:20260424T130326
DTSTART;TZID=Europe/Berlin:20260909T090000
DTEND;TZID=Europe/Berlin:20260909T100000
UID:26H96280-20260909T090000@VHSBUXTEHUDE
SUMMARY:Spaß und Freude an Bewegung ab 70 (26H96280) 
LOCATION:VHS-Haus, Raum 10, Bertha-von-Suttner-Allee 9, 21614 Buxtehude
END:VEVENT
BEGIN:VEVENT
DTSTAMP:20260424T130326
DTSTART;TZID=Europe/Berlin:20260916T090000
DTEND;TZID=Europe/Berlin:20260916T100000
UID:26H96280-20260916T090000@VHSBUXTEHUDE
SUMMARY:Spaß und Freude an Bewegung ab 70 (26H96280) 
LOCATION:VHS-Haus, Raum 10, Bertha-von-Suttner-Allee 9, 21614 Buxtehude
END:VEVENT
BEGIN:VEVENT
DTSTAMP:20260424T130326
DTSTART;TZID=Europe/Berlin:20260923T090000
DTEND;TZID=Europe/Berlin:20260923T100000
UID:26H96280-20260923T090000@VHSBUXTEHUDE
SUMMARY:Spaß und Freude an Bewegung ab 70 (26H96280) 
LOCATION:VHS-Haus, Raum 10, Bertha-von-Suttner-Allee 9, 21614 Buxtehude
END:VEVENT
BEGIN:VEVENT
DTSTAMP:20260424T130326
DTSTART;TZID=Europe/Berlin:20260930T090000
DTEND;TZID=Europe/Berlin:20260930T100000
UID:26H96280-20260930T090000@VHSBUXTEHUDE
SUMMARY:Spaß und Freude an Bewegung ab 70 (26H96280) 
LOCATION:VHS-Haus, Raum 10, Bertha-von-Suttner-Allee 9, 21614 Buxtehude
END:VEVENT
BEGIN:VEVENT
DTSTAMP:20260424T130326
DTSTART;TZID=Europe/Berlin:20261007T090000
DTEND;TZID=Europe/Berlin:20261007T100000
UID:26H96280-20261007T090000@VHSBUXTEHUDE
SUMMARY:Spaß und Freude an Bewegung ab 70 (26H96280) 
LOCATION:VHS-Haus, Raum 10, Bertha-von-Suttner-Allee 9, 21614 Buxtehude
END:VEVENT
END:VCALENDAR